BEGIN:VCALENDAR
VERSION:2.0
PRODID:-//Born in Brussels - ECPv6.15.18//NONSGML v1.0//EN
CALSCALE:GREGORIAN
METHOD:PUBLISH
X-WR-CALNAME:Born in Brussels
X-ORIGINAL-URL:https://www.bornin.brussels
X-WR-CALDESC:Évènements pour Born in Brussels
REFRESH-INTERVAL;VALUE=DURATION:PT1H
X-Robots-Tag:noindex
X-PUBLISHED-TTL:PT1H
BEGIN:VTIMEZONE
TZID:Europe/Paris
BEGIN:DAYLIGHT
TZOFFSETFROM:+0100
TZOFFSETTO:+0200
TZNAME:CEST
DTSTART:20240331T010000
END:DAYLIGHT
BEGIN:STANDARD
TZOFFSETFROM:+0200
TZOFFSETTO:+0100
TZNAME:CET
DTSTART:20241027T010000
END:STANDARD
BEGIN:DAYLIGHT
TZOFFSETFROM:+0100
TZOFFSETTO:+0200
TZNAME:CEST
DTSTART:20250330T010000
END:DAYLIGHT
BEGIN:STANDARD
TZOFFSETFROM:+0200
TZOFFSETTO:+0100
TZNAME:CET
DTSTART:20251026T010000
END:STANDARD
BEGIN:DAYLIGHT
TZOFFSETFROM:+0100
TZOFFSETTO:+0200
TZNAME:CEST
DTSTART:20260329T010000
END:DAYLIGHT
BEGIN:STANDARD
TZOFFSETFROM:+0200
TZOFFSETTO:+0100
TZNAME:CET
DTSTART:20261025T010000
END:STANDARD
END:VTIMEZONE
BEGIN:VEVENT
DTSTART;TZID=Europe/Paris:20250605T080000
DTEND;TZID=Europe/Paris:20250606T173000
DTSTAMP:20260419T193908
CREATED:20250415T130527Z
LAST-MODIFIED:20250415T130527Z
UID:36600-1749110400-1749231000@www.bornin.brussels
SUMMARY:34emes Rencontres Nationales de Périnatalité et de Parentalité
DESCRIPTION:Parents en quête de sens dans le tourbillon social\nMalaise des parents\, désarroi des enfants\, perte de sens ou quête de sens ?\nDans une société en mutation\, les changements entraînent une perte des repères\, un repli sur soi des individus. Pourtant\, ce temps de flottement inhérent aux périodes de transition peut être aussi un temps favorable aux adaptations et à la créativité. Dans cette période de désorientation\, comment le désir d’enfant\, les liens parents-bébés\, parents-enfants peuvent-ils évoluer ? Comment nourrir une dynamique créatrice chez les parents et les professionnel.le.s.\nDes initiatives apparaissent mais comment les relier entre elles pour constituer des nouveaux fondement sociaux du vivre ensemble ? Une quête de sens se fait jour.\nRevenir aux besoins fondamentaux du bébé pourrait être une voie pour réinvestir un ordre tiers symbolique. \nQuelques intervenants\n\nPatrick Ben Soussan – Pédopsychiatre Marseille\nNathalie Cazach\, Sophie Cubaynes\, Laetitia Lauze Teisserenc – Sage-femmes PMI Hérault\nMireille Clérembaux\, Tatiana Quitaud – Psychologues cliniciennes CH Beziers\nKatia Verges – Sage-femme CH Béziers\nDanièle Cuntz – Neuropédiatre CHU Montpellier\nDanièle Epstein – Psychologue\, psychanalyste\nSerge Escots – Docteur en anthropologie et psychothérapeute familial\, directeur de l’Institut d’Anthropologie clinique Toulouse\n…\n\nfiche d’ inscription 2025 (1) \nInfos et programme \n 
URL:https://www.bornin.brussels/evenement/34emes-rencontres-nationales-de-perinatalite-et-de-parentalite/
LOCATION:La Cigalière de Sérignan\, Parc de la Cigalière\, Sérignan\, Hérault\, 34410\, France
CATEGORIES:Professionnel
ATTACH;FMTTYPE=image/avif:https://www.bornin.brussels/wp-content/uploads/2025/04/Beziers.avif
END:VEVENT
END:VCALENDAR