BEGIN:VCALENDAR
VERSION:2.0
PRODID:-//Born in Brussels - ECPv6.15.18//NONSGML v1.0//EN
CALSCALE:GREGORIAN
METHOD:PUBLISH
X-WR-CALNAME:Born in Brussels
X-ORIGINAL-URL:https://www.bornin.brussels
X-WR-CALDESC:Évènements pour Born in Brussels
REFRESH-INTERVAL;VALUE=DURATION:PT1H
X-Robots-Tag:noindex
X-PUBLISHED-TTL:PT1H
BEGIN:VTIMEZONE
TZID:Europe/Paris
BEGIN:DAYLIGHT
TZOFFSETFROM:+0100
TZOFFSETTO:+0200
TZNAME:CEST
DTSTART:20250330T010000
END:DAYLIGHT
BEGIN:STANDARD
TZOFFSETFROM:+0200
TZOFFSETTO:+0100
TZNAME:CET
DTSTART:20251026T010000
END:STANDARD
BEGIN:DAYLIGHT
TZOFFSETFROM:+0100
TZOFFSETTO:+0200
TZNAME:CEST
DTSTART:20260329T010000
END:DAYLIGHT
BEGIN:STANDARD
TZOFFSETFROM:+0200
TZOFFSETTO:+0100
TZNAME:CET
DTSTART:20261025T010000
END:STANDARD
BEGIN:DAYLIGHT
TZOFFSETFROM:+0100
TZOFFSETTO:+0200
TZNAME:CEST
DTSTART:20270328T010000
END:DAYLIGHT
BEGIN:STANDARD
TZOFFSETFROM:+0200
TZOFFSETTO:+0100
TZNAME:CET
DTSTART:20271031T010000
END:STANDARD
END:VTIMEZONE
BEGIN:VEVENT
DTSTART;TZID=Europe/Paris:20260520T080000
DTEND;TZID=Europe/Paris:20260520T170000
DTSTAMP:20260425T171911
CREATED:20260423T152625Z
LAST-MODIFIED:20260423T152625Z
UID:43716-1779264000-1779296400@www.bornin.brussels
SUMMARY:Ateliers périnatalité Parents-Bébés - Grandir ensemble
DESCRIPTION:Ces ateliers organisés par PsyBru offrent un espace chaleureux où les bébés de 0 à 18 mois et leurs parents peuvent se retrouver pour échanger\, observer et découvrir ensemble les premières étapes du développement. \nDeux groupes sont proposés pour respecter le rythme de chacun: 0-9 mois et 9-18 mois. Le cycle se déroule en 4 à 5 ateliers\, rassemblant 4 familles (soit 4 à 8 adultes accompagnés de 4 bébés). Ce format réduit permet d’avancer au rythme du groupe\, de favoriser les échanges et de créer un climat de confiance. Au fil des rencontres\, différentes thématiques sont explorées: compréhension des signaux du bébé\, éveil sensoriel\, interactions précoces\, jeux\, rythmes et émotions parentales. Chaque séance soutient le lien maman-bébé et papa-bébé\, et offre un espace d’échange simple et bienveillant entre parents. Si nécessaire\, une orientation vers les ressources du réseau périnatalité peut être proposée. Nous nous réjouissons de pouvoir partager ces moments avec vous et de grandir ensemble au fil des ateliers. \nQuand ?\nParents-Bébés (0–9 mois) : 01/04 – 15/04 – 20/05 – 03/06 – 17/06 (5 séances) Ateliers Parents-Bébés (9–18 mois) : 08/04 – 22/04 – 27/05 – 10/06 – 24/06 (5 séances) \nLieu\nWinnie-Kot\nRue de l’union 10\n1210 Saint-Josse-ten-Noode \nPlus d’infos\nLes ateliers sont entièrement gratuits. Inscriptions par email – grandirensemble.ateliers@gmail.com – ou par téléphone : 0490 44 10 67 (Marine) ou 0490 56 59 62 (Julia)
URL:https://www.bornin.brussels/evenement/ateliers-perinatalite-parents-bebes-grandir-ensemble/
LOCATION:PsyBru
ATTACH;FMTTYPE=image/png:https://www.bornin.brussels/wp-content/uploads/2025/07/psybru.png
END:VEVENT
END:VCALENDAR