BEGIN:VCALENDAR
VERSION:2.0
PRODID:-//Born in Brussels - ECPv6.15.18//NONSGML v1.0//EN
CALSCALE:GREGORIAN
METHOD:PUBLISH
X-ORIGINAL-URL:https://www.bornin.brussels
X-WR-CALDESC:Évènements pour Born in Brussels
REFRESH-INTERVAL;VALUE=DURATION:PT1H
X-Robots-Tag:noindex
X-PUBLISHED-TTL:PT1H
BEGIN:VTIMEZONE
TZID:Europe/Paris
BEGIN:DAYLIGHT
TZOFFSETFROM:+0100
TZOFFSETTO:+0200
TZNAME:CEST
DTSTART:20250330T010000
END:DAYLIGHT
BEGIN:STANDARD
TZOFFSETFROM:+0200
TZOFFSETTO:+0100
TZNAME:CET
DTSTART:20251026T010000
END:STANDARD
BEGIN:DAYLIGHT
TZOFFSETFROM:+0100
TZOFFSETTO:+0200
TZNAME:CEST
DTSTART:20260329T010000
END:DAYLIGHT
BEGIN:STANDARD
TZOFFSETFROM:+0200
TZOFFSETTO:+0100
TZNAME:CET
DTSTART:20261025T010000
END:STANDARD
BEGIN:DAYLIGHT
TZOFFSETFROM:+0100
TZOFFSETTO:+0200
TZNAME:CEST
DTSTART:20270328T010000
END:DAYLIGHT
BEGIN:STANDARD
TZOFFSETFROM:+0200
TZOFFSETTO:+0100
TZNAME:CET
DTSTART:20271031T010000
END:STANDARD
END:VTIMEZONE
BEGIN:VEVENT
DTSTART;TZID=Europe/Paris:20260430T163000
DTEND;TZID=Europe/Paris:20260430T203000
DTSTAMP:20260425T172107
CREATED:20260423T150415Z
LAST-MODIFIED:20260423T150415Z
UID:10000431-1777566600-1777581000@www.bornin.brussels
SUMMARY:Projection & débat : quand les mères monoparentales immigrées prennent la parole
DESCRIPTION:Comment vit-on quand on est mère seule\, immigrée\, et confrontée chaque jour à un véritable parcours du combattant pour se loger\, travailler ou simplement exister au quotidien ? \nLe festival Millenium propose une projection de témoignages vidéo de mères immigrées monoparentales\, suivie d’un échange avec des participantes et des professionnel·le·s. L’objectif est de rendre visibles des récits souvent invisibilisés et de mieux comprendre ces réalités. \nQuand ?\n30 avril 2026\, 18h30-20h30 \nLieu\nLouise 107 – Avenue Louise 107\, 1050 Bruxelles \nProgramme\n18h00 – Accueil du public\n18h30 – Projection\n19h15 – Discussions \nEntrée libre\, sur inscription obligatoire par e-mail à reservation@festivalmillenium.org \n→ Plus d’infos : Millenium Festival Projection & débat : quand les mères monoparentales immigrées prennent la parole
URL:https://www.bornin.brussels/evenement/projection-debat-quand-les-meres-monoparentales-immigrees-prennent-la-parole/
LOCATION:Louise 107\, Avenue Louise 107\, Bruxelles\, 1050\, Belgium
CATEGORIES:Public
ATTACH;FMTTYPE=image/jpeg:https://www.bornin.brussels/wp-content/uploads/2026/04/millenium_0_0.jpg
END:VEVENT
END:VCALENDAR