BEGIN:VCALENDAR
VERSION:2.0
PRODID:-//Born in Brussels - ECPv6.15.18//NONSGML v1.0//EN
CALSCALE:GREGORIAN
METHOD:PUBLISH
X-WR-CALNAME:Born in Brussels
X-ORIGINAL-URL:https://www.bornin.brussels
X-WR-CALDESC:Évènements pour Born in Brussels
REFRESH-INTERVAL;VALUE=DURATION:PT1H
X-Robots-Tag:noindex
X-PUBLISHED-TTL:PT1H
BEGIN:VTIMEZONE
TZID:Europe/Paris
BEGIN:DAYLIGHT
TZOFFSETFROM:+0100
TZOFFSETTO:+0200
TZNAME:CEST
DTSTART:20240331T010000
END:DAYLIGHT
BEGIN:STANDARD
TZOFFSETFROM:+0200
TZOFFSETTO:+0100
TZNAME:CET
DTSTART:20241027T010000
END:STANDARD
BEGIN:DAYLIGHT
TZOFFSETFROM:+0100
TZOFFSETTO:+0200
TZNAME:CEST
DTSTART:20250330T010000
END:DAYLIGHT
BEGIN:STANDARD
TZOFFSETFROM:+0200
TZOFFSETTO:+0100
TZNAME:CET
DTSTART:20251026T010000
END:STANDARD
BEGIN:DAYLIGHT
TZOFFSETFROM:+0100
TZOFFSETTO:+0200
TZNAME:CEST
DTSTART:20260329T010000
END:DAYLIGHT
BEGIN:STANDARD
TZOFFSETFROM:+0200
TZOFFSETTO:+0100
TZNAME:CET
DTSTART:20261025T010000
END:STANDARD
END:VTIMEZONE
BEGIN:VEVENT
DTSTART;TZID=Europe/Paris:20250920T100000
DTEND;TZID=Europe/Paris:20250920T140000
DTSTAMP:20260420T072755
CREATED:20250715T132716Z
LAST-MODIFIED:20250715T132716Z
UID:38215-1758362400-1758376800@www.bornin.brussels
SUMMARY:Clinique de la Femme enceinte - Portes ouvertes
DESCRIPTION:Pour les professionnel.les et les futurs parents\nLa maternité et les quartiers d’accouchement ouvre leurs portes pour faire découvrir les différents lieux qui composent le parcours de la femme enceinte au CHU Saint-Pierre.\nL’équipe médicale et paramédicale sera disponible toute la journée pour répondre à vos questions et pour vous présenter l’étendue de l’offre de soins: accompagnement de la grossesse\, les préparations à la naissance\, votre projet naissance\, votre séjour a la maternité du CHU Saint-Pierre.  \nProgramme du jour\n\n\nVisite guidée de la maternité\, de la salle nature (plateau technique) et du quartier d’accouchement en continu par petits groupes \nStands d’informations : présence de gynécologues\, anesthésistes\, sage-femmes\, assistances sociales\, psychologue\, etc. \nPériode prénatale (préparations à la naissance\, suivi grossesse\, Early Pregnancy Unit\,…) et médecine fœtale\nNéonatologie et grossesse à risque\nONE\nService psy-périnatalité Néonatologie et grossesse à risque\nSection internationale (patiente étrangère\, assurabilité\,…)\nPetit goûter et goodies packs\nPhoto souvenir de votre grossesse par Focus Pocus\n\nOù ?\nRue aux Laines 105 à 1000 Bruxelles\nRoute 205 \nInfos et inscriptions 
URL:https://www.bornin.brussels/evenement/clinique-de-la-femme-enceinte-portes-ouvertes/
LOCATION:CHU Saint-Pierre\, 105 rue aux Laines\, Bruxelles\, Bruxelles\, 1000\, Belgique
CATEGORIES:Professionnel,Public
ATTACH;FMTTYPE=image/webp:https://www.bornin.brussels/wp-content/uploads/2025/01/Logo_chu_umc_0.webp
END:VEVENT
END:VCALENDAR