BEGIN:VCALENDAR
VERSION:2.0
PRODID:-//Born in Brussels - ECPv6.15.18//NONSGML v1.0//EN
CALSCALE:GREGORIAN
METHOD:PUBLISH
X-WR-CALNAME:Born in Brussels
X-ORIGINAL-URL:https://www.bornin.brussels
X-WR-CALDESC:Évènements pour Born in Brussels
REFRESH-INTERVAL;VALUE=DURATION:PT1H
X-Robots-Tag:noindex
X-PUBLISHED-TTL:PT1H
BEGIN:VTIMEZONE
TZID:Europe/Paris
BEGIN:DAYLIGHT
TZOFFSETFROM:+0100
TZOFFSETTO:+0200
TZNAME:CEST
DTSTART:20240331T010000
END:DAYLIGHT
BEGIN:STANDARD
TZOFFSETFROM:+0200
TZOFFSETTO:+0100
TZNAME:CET
DTSTART:20241027T010000
END:STANDARD
BEGIN:DAYLIGHT
TZOFFSETFROM:+0100
TZOFFSETTO:+0200
TZNAME:CEST
DTSTART:20250330T010000
END:DAYLIGHT
BEGIN:STANDARD
TZOFFSETFROM:+0200
TZOFFSETTO:+0100
TZNAME:CET
DTSTART:20251026T010000
END:STANDARD
BEGIN:DAYLIGHT
TZOFFSETFROM:+0100
TZOFFSETTO:+0200
TZNAME:CEST
DTSTART:20260329T010000
END:DAYLIGHT
BEGIN:STANDARD
TZOFFSETFROM:+0200
TZOFFSETTO:+0100
TZNAME:CET
DTSTART:20261025T010000
END:STANDARD
END:VTIMEZONE
BEGIN:VEVENT
DTSTART;TZID=Europe/Paris:20250206T090000
DTEND;TZID=Europe/Paris:20250206T170000
DTSTAMP:20260422T131553
CREATED:20240702T133604Z
LAST-MODIFIED:20240702T133604Z
UID:30071-1738832400-1738861200@www.bornin.brussels
SUMMARY:Formation : apprivoiser peur & douleur de l'accouchement
DESCRIPTION:Apprivoiser « peur et douleur » de l’accouchement par le prisme de la pleine conscience et des neurosciences\nCet atelier découverte propose aux professionnel.les de santé comment apprivoiser la peur de l’accouchement et les douleurs des contractions. \nComment une femme\, qui accouche\, peut gérer ses contractions\, l’une après l’autre\, grâce à une approche basée sur les neurosciences\, les pratiques de pleine conscience et de bienveillance. La grossesse et l’accouchement sont des expériences directes du lien corps-esprit. \nDurant l’atelier\, nous pourrons pratiquer de façon expérientielle\, la manière\, dont l’esprit influence la physiologie pendant l’accouchement. Nous verrons également l’importance de l’implication consciente et émotionnelle du co-parent qui devient un allié pour mieux la soutenir et lui offrir un environnement de confiance et de sécurité. \n« Santé Publique France reconnait aujourd’hui les programmes d’interventions basées sur la Mindfulness comme étant l’une des interventions de santé publique validées et prometteuses du fait des résultats scientifiques publiés dans la littérature scientifique internationale. » \nContenu\n\nLa présentation de la pleine conscience : son histoire\, sa définition\, Jon Kabat-Zinn le fondateur du programme MBSR et Nancy Bardacke la fondatrice du programme MBCP\nLes bienfaits de la pleine conscience pour réduire le stress pendant la grossesse et l’accouchement\nUne introduction du lien corps-esprit – les 8 sens du corps et les 8 attitudes de l’esprit\nLa gestion de la douleur pendant le travail ainsi qu’une approche expérientielle\nLes pratiques de bienveillance\nUne approche consciente vers la début de la parentalité\nLes recherches\n\nPublic cible\nProfessionnel.les de santé\, étudiant.es dans le domaine de la naissance désireux d’expérimenter les outils de la pleine conscience et ses bienfaits pour permettre à la femme enceinte et aux couples de réduire leurs stress pendant cette période de grande vulnérabilité. \nMatériel requis\nTapis de gym/yoga + un essuie \nTarif réduit pour les membres de l’UPE/UPLF\, personnel HUB\, enseignants\, alumni\, étudiants HELB/IIP/CEBxl : 120 € \nFormatrice\nMorgane Gottschalk : enseignante et formatrice de pleine conscience diplômée du « Center for Mindfulness »\, Faculté de Médecine\, Université du Massachusetts USA\, diplômée DU en Médecine\, Méditation et Neurosciences\, Université de Strasbourg.
URL:https://www.bornin.brussels/evenement/formation-apprivoiser-peur-douleur-de-laccouchement/
LOCATION:Campus Hôpital Erasme\, Route de Lennik 808\, Anderlecht\, 1070\, Belgique
CATEGORIES:Professionnel
ATTACH;FMTTYPE=image/png:https://www.bornin.brussels/wp-content/uploads/2024/07/CREA_LOGO_quadri-sans-fond-1.png
END:VEVENT
END:VCALENDAR