BEGIN:VCALENDAR
VERSION:2.0
PRODID:-//Born in Brussels - ECPv6.15.18//NONSGML v1.0//EN
CALSCALE:GREGORIAN
METHOD:PUBLISH
X-WR-CALNAME:Born in Brussels
X-ORIGINAL-URL:https://www.bornin.brussels
X-WR-CALDESC:Évènements pour Born in Brussels
REFRESH-INTERVAL;VALUE=DURATION:PT1H
X-Robots-Tag:noindex
X-PUBLISHED-TTL:PT1H
BEGIN:VTIMEZONE
TZID:Europe/Paris
BEGIN:DAYLIGHT
TZOFFSETFROM:+0100
TZOFFSETTO:+0200
TZNAME:CEST
DTSTART:20240331T010000
END:DAYLIGHT
BEGIN:STANDARD
TZOFFSETFROM:+0200
TZOFFSETTO:+0100
TZNAME:CET
DTSTART:20241027T010000
END:STANDARD
BEGIN:DAYLIGHT
TZOFFSETFROM:+0100
TZOFFSETTO:+0200
TZNAME:CEST
DTSTART:20250330T010000
END:DAYLIGHT
BEGIN:STANDARD
TZOFFSETFROM:+0200
TZOFFSETTO:+0100
TZNAME:CET
DTSTART:20251026T010000
END:STANDARD
BEGIN:DAYLIGHT
TZOFFSETFROM:+0100
TZOFFSETTO:+0200
TZNAME:CEST
DTSTART:20260329T010000
END:DAYLIGHT
BEGIN:STANDARD
TZOFFSETFROM:+0200
TZOFFSETTO:+0100
TZNAME:CET
DTSTART:20261025T010000
END:STANDARD
END:VTIMEZONE
BEGIN:VEVENT
DTSTART;TZID=Europe/Paris:20250925T093000
DTEND;TZID=Europe/Paris:20250925T163000
DTSTAMP:20260419T145212
CREATED:20250729T091538Z
LAST-MODIFIED:20250729T092516Z
UID:38565-1758792600-1758817800@www.bornin.brussels
SUMMARY:Formation Droits-Quotidiens : Professionnels face aux violences intrafamiliales : aspects psychosociaux de l'accompagnement
DESCRIPTION:Face aux violences intrafamiliales\, les professionnels peuvent compter sur une formation sur mesure délivrée par l’asbl Droits-Quotidiens. Celle-ci abordera des aspects psychosociaux de l’accompagnement. Les objectifs de la formation sont les suivants : \n\nComprendre la distinction entre conflit et contrôle coercitif\nDécouvrir plusieurs outils expliquant le processus de violence conjugale (par exemple : cycle de la violence\, violentomètre\, schéma de processus de domination)\nIdentifier les différentes forme que peuvent prendre les violences intrafamiliales\nEtre mieux outillé pour accompagner les personnes victimes de violences intrafamiliales\nDisposer de pistes pour accompagner les personnes victimes de violences intrafamiliales tout en respectant le secret professionnel\n\nQuand ? Jeudi 25 septembre 2025 de 9h30 à 16h30 \nOù ? Mundo-Namur\, Salle Okavango : Rue Nanon 98 – 5000 Namur\, Belgique \nPour qui ? Intervenants sociaux généralistes \nPrix : 150€ (pauses-café et lunch sandwichs inclus) \nInscriptions \nProfessionnels face aux violences intrafamiliales : aspects psychosociaux de l’accompagnement (Namur\, 25/09/2025) | Droits Quotidiens Legal Info
URL:https://www.bornin.brussels/evenement/formation-droits-quotidiens-professionnels-face-aux-violences-intrafamiliales-aspects-psychosociaux-de-laccompagnement/
LOCATION:Mundo-Namur\, Rue Nanon\, 98\, Namur\, Namur\, 5000
CATEGORIES:Professionnel
ATTACH;FMTTYPE=image/png:https://www.bornin.brussels/wp-content/uploads/2025/07/Droits-quotidiens.png
ORGANIZER;CN="Droits Quotidiens":MAILTO:info@droitsquotidiens.be
END:VEVENT
END:VCALENDAR