BEGIN:VCALENDAR
VERSION:2.0
PRODID:-//Born in Brussels - ECPv6.15.18//NONSGML v1.0//EN
CALSCALE:GREGORIAN
METHOD:PUBLISH
X-WR-CALNAME:Born in Brussels
X-ORIGINAL-URL:https://www.bornin.brussels
X-WR-CALDESC:Évènements pour Born in Brussels
REFRESH-INTERVAL;VALUE=DURATION:PT1H
X-Robots-Tag:noindex
X-PUBLISHED-TTL:PT1H
BEGIN:VTIMEZONE
TZID:Europe/Paris
BEGIN:DAYLIGHT
TZOFFSETFROM:+0100
TZOFFSETTO:+0200
TZNAME:CEST
DTSTART:20250330T010000
END:DAYLIGHT
BEGIN:STANDARD
TZOFFSETFROM:+0200
TZOFFSETTO:+0100
TZNAME:CET
DTSTART:20251026T010000
END:STANDARD
BEGIN:DAYLIGHT
TZOFFSETFROM:+0100
TZOFFSETTO:+0200
TZNAME:CEST
DTSTART:20260329T010000
END:DAYLIGHT
BEGIN:STANDARD
TZOFFSETFROM:+0200
TZOFFSETTO:+0100
TZNAME:CET
DTSTART:20261025T010000
END:STANDARD
BEGIN:DAYLIGHT
TZOFFSETFROM:+0100
TZOFFSETTO:+0200
TZNAME:CEST
DTSTART:20270328T010000
END:DAYLIGHT
BEGIN:STANDARD
TZOFFSETFROM:+0200
TZOFFSETTO:+0100
TZNAME:CET
DTSTART:20271031T010000
END:STANDARD
END:VTIMEZONE
BEGIN:VEVENT
DTSTART;TZID=Europe/Paris:20260206T093000
DTEND;TZID=Europe/Paris:20260206T123000
DTSTAMP:20260419T144505
CREATED:20260115T100707Z
LAST-MODIFIED:20260115T100750Z
UID:42035-1770370200-1770381000@www.bornin.brussels
SUMMARY:Journée Internationale de Tolérance Zéro à l’égard des MGF
DESCRIPTION:Le 6 février est une date essentielle pour rappeler que les mutilations génitales féminines constituent une violation grave des droits humains\, qui affecte encore aujourd’hui des millions de filles et de femmes à travers le monde\, y compris en Belgique.  \nÀ l’occasion de cette journée internationale de Tolérance Zéro\, le GAMS Belgique souhaite créer un espace de réflexion\, de dialogue et de sensibilisation autour des réalités vécues par les femmes concernées\, des enjeux de prévention et des leviers de changement au sein des communautés. Cette journée vise à mieux comprendre les mécanismes qui perpétuent les MGF\, à valoriser les voix engagées dans la lutte contre ces pratiques et à renforcer les actions collectives pour les prévenir. \nQuand ?\nLe vendredi 6 février 2026 – De 9h30 à 12h30 \nLieu\nFédération Wallonie-Bruxelles\, Bd Léopold II 44\, 1080 Molenbeek-Saint-Jean \nProgramme\n9h30 : Accueil (thé/café) \n10h00 : Introduction par Aminata Sidibé\, Coordinatrice du GAMS Bruxelles \n10h20 : Présentation en avant-première d’une nouvelle recherche qualitative par Jihan Safar et Cyrielle Huyghe – Thème : Pratiques des MGF dans les communautés d’Égypte\, Soudan\, Irak et Indonésie en Belgique \n11h20 : Panel de discussion avec Community Voices et Youth Activists du GAMS\, modéré par Fabienne Richard\, Directrice du GAMS Belgique\, suivi d’une séance de questions/réponses \n12h20 : Clôture par Monsieur le Ministre Coppieters \n12h30 : Lunch
URL:https://www.bornin.brussels/evenement/journee-internationale-de-tolerance-zero-a-legard-des-mgf/
LOCATION:Fédération Wallonie-Bruxelles\, Bd Léopold II 44\, Bruxelles\, Sint-Jan Molenbeek\, 1080\, Belgium
CATEGORIES:Public
ATTACH;FMTTYPE=image/png:https://www.bornin.brussels/wp-content/uploads/2026/01/Logos-GAMS_Nude-scaled.png
END:VEVENT
END:VCALENDAR