BEGIN:VCALENDAR
VERSION:2.0
PRODID:-//Born in Brussels - ECPv6.15.18//NONSGML v1.0//EN
CALSCALE:GREGORIAN
METHOD:PUBLISH
X-WR-CALNAME:Born in Brussels
X-ORIGINAL-URL:https://www.bornin.brussels
X-WR-CALDESC:Évènements pour Born in Brussels
REFRESH-INTERVAL;VALUE=DURATION:PT1H
X-Robots-Tag:noindex
X-PUBLISHED-TTL:PT1H
BEGIN:VTIMEZONE
TZID:Europe/Brussels
BEGIN:DAYLIGHT
TZOFFSETFROM:+0100
TZOFFSETTO:+0200
TZNAME:CEST
DTSTART:20240331T010000
END:DAYLIGHT
BEGIN:STANDARD
TZOFFSETFROM:+0200
TZOFFSETTO:+0100
TZNAME:CET
DTSTART:20241027T010000
END:STANDARD
BEGIN:DAYLIGHT
TZOFFSETFROM:+0100
TZOFFSETTO:+0200
TZNAME:CEST
DTSTART:20250330T010000
END:DAYLIGHT
BEGIN:STANDARD
TZOFFSETFROM:+0200
TZOFFSETTO:+0100
TZNAME:CET
DTSTART:20251026T010000
END:STANDARD
BEGIN:DAYLIGHT
TZOFFSETFROM:+0100
TZOFFSETTO:+0200
TZNAME:CEST
DTSTART:20260329T010000
END:DAYLIGHT
BEGIN:STANDARD
TZOFFSETFROM:+0200
TZOFFSETTO:+0100
TZNAME:CET
DTSTART:20261025T010000
END:STANDARD
END:VTIMEZONE
BEGIN:VEVENT
DTSTART;TZID=Europe/Brussels:20250707T150000
DTEND;TZID=Europe/Brussels:20250822T170000
DTSTAMP:20260419T222325
CREATED:20250627T100820Z
LAST-MODIFIED:20250627T131716Z
UID:37873-1751900400-1755882000@www.bornin.brussels
SUMMARY:Musée en pleine herbe
DESCRIPTION:Cet été\, le Musée d’Ixelles investit à nouveau sept parcs de la commune avec la deuxième édition estivale de Musée en pleine herbe\, une initiative culturelle en plein air pensée pour les familles et les enfants. Du lundi au vendredi\, une série de jeux conçus à partir des œuvres de la collection est proposée. Une manière ludique et créative de découvrir l’art\, tout en profitant du soleil. \nAu programme : une variété de jeux pour petits et grands\, comme le Jeu des 7 familles\, qui invite à découvrir différentes techniques artistiques\, ou un qui est-ce ? revisité avec les portraits du musée. S’ajoutent à cela des puzzles\, coloriages\, devinettes\, un twister artistique\, un tangram\, et bien d’autres activités\, toutes pensées pour stimuler l’imagination et la créativité. \nQuand ?\nDu 07.07.2025 au 22.08.2025\nEn semaine : du lundi au vendredi de 15h00 à 17h00 \nOu ?\n7 → 11 juillet : Place Fernand Cocq\n14 → 18 juillet : Parc Albert II\n21 → 25 juillet : Abbaye de la Cambre\n28 juillet → 01 août : Parc Jadot\n4 → 8 août : Plaine de jeux de la Petite Suisse\n11 → 15 août : Parc Tenbosch\n18 → 22 août : Parc du Viaduc \nLe programme est gratuit et ouvert à tous et toutes\, sans nécessité de réservation. \nEn cas de pluie\, l’événement est annulé.\nRestez connecté·e sur les réseaux du Musée d’Ixelles pour les dernières infos !
URL:https://www.bornin.brussels/evenement/musee-en-pleine-herbe-2/
LOCATION:Dans les parcs d’Ixelles\, Ixelles (voir programme)\, Bruxelles\, 1050\, Belgique
CATEGORIES:Public
ORGANIZER;CN="Mus%C3%A9e d'Ixelles":MAILTO:musee@ixelles.brussels
END:VEVENT
END:VCALENDAR