BEGIN:VCALENDAR
VERSION:2.0
PRODID:-//Born in Brussels - ECPv6.15.18//NONSGML v1.0//EN
CALSCALE:GREGORIAN
METHOD:PUBLISH
X-WR-CALNAME:Born in Brussels
X-ORIGINAL-URL:https://www.bornin.brussels
X-WR-CALDESC:Évènements pour Born in Brussels
REFRESH-INTERVAL;VALUE=DURATION:PT1H
X-Robots-Tag:noindex
X-PUBLISHED-TTL:PT1H
BEGIN:VTIMEZONE
TZID:Europe/Paris
BEGIN:DAYLIGHT
TZOFFSETFROM:+0100
TZOFFSETTO:+0200
TZNAME:CEST
DTSTART:20240331T010000
END:DAYLIGHT
BEGIN:STANDARD
TZOFFSETFROM:+0200
TZOFFSETTO:+0100
TZNAME:CET
DTSTART:20241027T010000
END:STANDARD
BEGIN:DAYLIGHT
TZOFFSETFROM:+0100
TZOFFSETTO:+0200
TZNAME:CEST
DTSTART:20250330T010000
END:DAYLIGHT
BEGIN:STANDARD
TZOFFSETFROM:+0200
TZOFFSETTO:+0100
TZNAME:CET
DTSTART:20251026T010000
END:STANDARD
BEGIN:DAYLIGHT
TZOFFSETFROM:+0100
TZOFFSETTO:+0200
TZNAME:CEST
DTSTART:20260329T010000
END:DAYLIGHT
BEGIN:STANDARD
TZOFFSETFROM:+0200
TZOFFSETTO:+0100
TZNAME:CET
DTSTART:20261025T010000
END:STANDARD
END:VTIMEZONE
BEGIN:VEVENT
DTSTART;TZID=Europe/Paris:20250920T090000
DTEND;TZID=Europe/Paris:20250920T130000
DTSTAMP:20260420T030411
CREATED:20250822T101817Z
LAST-MODIFIED:20250822T124315Z
UID:39119-1758358800-1758373200@www.bornin.brussels
SUMMARY:Portes Ouvertes: Clinique de la Femme Enceinte
DESCRIPTION:Nos maternités ainsi que notre quartier d’accouchement vous ouvrent leurs portes. Venez découvrir les différents lieux qui composent le parcours de la femme enceinte au CHU Saint-Pierre. \nL’équipe médicale et paramédicale sera disponible toute la journée pour répondre à vos questions et pour vous présenter l’étendue de notre offre de soins: accompagnement de la grossesse\, les préparations à la naissance\, votre projet naissance\, votre séjour dans notre maternité. \nProgramme du jour\n– Visite guidée de la maternité\, de la salle nature (plateau technique) et du quartier d’accouchement en continu par petits groupes\n– Stands d’informations : présence de gynécologues\, anesthésistes\, sage-femmes\, assistances sociales\, psychologue\, etc.\n– Prénatale (préparations à la naissance\, suivi grossesse\, Early Pregnancy Unit\,…) et médecine fœtale\n– Néonatologie et grossesse à risque\n– ONE\n– Service psy-périnatalité Néonatologie et grossesse à risque\n– Section internationale (patiente étrangère\, assurabilité\,…)\n…\nPetit goûter et goodies packs\nPhoto souvenir de votre grossesse par Focus Pocus \nOù?\n105 rue aux Laines à 1000 Bruxelles- Route 205 \nInscription gratuite demandée:\nhttps://www.stpierre-bru.be/event/portes-ouvertes-clinique-de-la-femme-enceinte/
URL:https://www.bornin.brussels/evenement/portes-ouvertes-clinique-de-la-femme-enceinte/
LOCATION:CHU Saint-Pierre\, 105 rue aux Laines\, Bruxelles\, Bruxelles\, 1000\, Belgique
CATEGORIES:Public
ATTACH;FMTTYPE=image/jpeg:https://www.bornin.brussels/wp-content/uploads/2025/08/Journee_PO_CFE_22025_FR.jpg
END:VEVENT
END:VCALENDAR