BEGIN:VCALENDAR
VERSION:2.0
PRODID:-//Born in Brussels - ECPv6.15.18//NONSGML v1.0//EN
CALSCALE:GREGORIAN
METHOD:PUBLISH
X-WR-CALNAME:Born in Brussels
X-ORIGINAL-URL:https://www.bornin.brussels
X-WR-CALDESC:Évènements pour Born in Brussels
REFRESH-INTERVAL;VALUE=DURATION:PT1H
X-Robots-Tag:noindex
X-PUBLISHED-TTL:PT1H
BEGIN:VTIMEZONE
TZID:Europe/Paris
BEGIN:DAYLIGHT
TZOFFSETFROM:+0100
TZOFFSETTO:+0200
TZNAME:CEST
DTSTART:20240331T010000
END:DAYLIGHT
BEGIN:STANDARD
TZOFFSETFROM:+0200
TZOFFSETTO:+0100
TZNAME:CET
DTSTART:20241027T010000
END:STANDARD
BEGIN:DAYLIGHT
TZOFFSETFROM:+0100
TZOFFSETTO:+0200
TZNAME:CEST
DTSTART:20250330T010000
END:DAYLIGHT
BEGIN:STANDARD
TZOFFSETFROM:+0200
TZOFFSETTO:+0100
TZNAME:CET
DTSTART:20251026T010000
END:STANDARD
BEGIN:DAYLIGHT
TZOFFSETFROM:+0100
TZOFFSETTO:+0200
TZNAME:CEST
DTSTART:20260329T010000
END:DAYLIGHT
BEGIN:STANDARD
TZOFFSETFROM:+0200
TZOFFSETTO:+0100
TZNAME:CET
DTSTART:20261025T010000
END:STANDARD
END:VTIMEZONE
BEGIN:VEVENT
DTSTART;TZID=Europe/Paris:20250914T103000
DTEND;TZID=Europe/Paris:20250914T113000
DTSTAMP:20260420T030649
CREATED:20250819T124412Z
LAST-MODIFIED:20250819T124412Z
UID:39074-1757845800-1757849400@www.bornin.brussels
SUMMARY:Spectacle pour enfants au festival Mosaïques à Saint-Gilles
DESCRIPTION:Le Festival Mosaïques revient à Saint-Gilles pour célébrer la création musicale contemporaine dans un esprit multigénérationnel. Cet événement est une véritable fête de la modernité musicale\, ouverte à tous les publics.  \nAu sein de ce festival\, Born in Brussels a repéré un spectacle en particulier\, pour les enfants : Uguisu (de 2 à 4 ans)  – un spectacle musical avec une chanteuse\, un pianiste et des légumes et fruits musicaux ! Une approche inhabituelle et amusante de ces aliments qui n’ont pas toujours leur faveur. \nQuand ?\nDimanche 14 septembre de  10h30 à 11h10 \nLieu\nMaison du Peuple \nParvis Saint-Gilles 37\, 1060 Saint-Gilles \nInfos et inscriptions\n→ Toute la programmation du festival Mosaïques  \n→ Inscription au spectacle pour enfants
URL:https://www.bornin.brussels/evenement/spectacle-pour-enfants-au-festival-mosaiques-a-saint-gilles/
LOCATION:La maison du peuple\, Parvis Saint-Gilles 37\,\, Bruxelles\, Saint-Gilles\, 1060\, Belgium
CATEGORIES:Public
ATTACH;FMTTYPE=image/png:https://www.bornin.brussels/wp-content/uploads/2025/08/Mosaiques.png
END:VEVENT
END:VCALENDAR